BEGIN:VCALENDAR
VERSION:2.0
PRODID:-//wowchildrensmuseum.org//NONSGML kigkonsult.se iCalcreator 2.30.10
 //
CALSCALE:GREGORIAN
METHOD:PUBLISH
UID:85a83e9d-1f72-4ebd-b4df-d214bab6dbe7
X-WR-CALDESC:Come to WOW! after school and take part in extra awesome STEAM
  activities\, brought to you by WOW! team member\, Max! \n\nSTEAM to the M
 ax! is a recurring program on Thursday afternoons and is recommended for g
 rades K-3. This program is included with Museum Admission or Membership.
X-WR-RELCALID:b8ee579618399b14840786437fb15dc4
X-WR-TIMEZONE:America/Denver
BEGIN:VTIMEZONE
TZID:America/Denver
BEGIN:STANDARD
TZNAME:MST
DTSTART:20301103T020000
TZOFFSETFROM:-0600
TZOFFSETTO:-0700
RDATE:20311102T020000
END:STANDARD
BEGIN:DAYLIGHT
TZNAME:MDT
DTSTART:20310309T020000
TZOFFSETFROM:-0700
TZOFFSETTO:-0600
RDATE:20320314T020000
END:DAYLIGHT
END:VTIMEZONE
BEGIN:VEVENT
UID:b872cdd1-21bb-471f-a23f-d2df0a1de7e0
DTSTAMP:20260426T015306Z
DESCRIPTION:Come to WOW! after school and take part in extra awesome STEAM 
 activities\, brought to you by WOW! team member\, Max! \n\nSTEAM to the Ma
 x! is a recurring program on Thursday afternoons and is recommended for gr
 ades K-3. This program is included with Museum Admission or Membership.
DTSTART;TZID=America/Denver:20310417T153000
DTEND;TZID=America/Denver:20310417T161500
LOCATION:
SUMMARY:STEAM to the Max!
END:VEVENT
END:VCALENDAR
