BEGIN:VCALENDAR
VERSION:2.0
PRODID:-//wowchildrensmuseum.org//NONSGML kigkonsult.se iCalcreator 2.30.10
 //
CALSCALE:GREGORIAN
METHOD:PUBLISH
UID:930d2e62-503f-4e69-8d67-374f70862807
X-WR-CALDESC:Come to WOW! after school and take part in extra awesome STEAM
  activities\, brought to you by WOW! team member\, Max! \n\nSTEAM to the M
 ax! is a recurring program on Thursday afternoons and is recommended for g
 rades K-3. This program is included with Museum Admission or Membership.
X-WR-RELCALID:55090ce4e4a37810e8eb709c85abaa47
X-WR-TIMEZONE:America/Denver
BEGIN:VTIMEZONE
TZID:America/Denver
BEGIN:STANDARD
TZNAME:MST
DTSTART:20291104T020000
TZOFFSETFROM:-0600
TZOFFSETTO:-0700
RDATE:20301103T020000
RDATE:20311102T020000
END:STANDARD
BEGIN:DAYLIGHT
TZNAME:MDT
DTSTART:20300310T020000
TZOFFSETFROM:-0700
TZOFFSETTO:-0600
RDATE:20310309T020000
END:DAYLIGHT
END:VTIMEZONE
BEGIN:VEVENT
UID:d2b11eb6-5911-49fa-a5d9-2165d9a75378
DTSTAMP:20260425T122551Z
DESCRIPTION:Come to WOW! after school and take part in extra awesome STEAM 
 activities\, brought to you by WOW! team member\, Max! \n\nSTEAM to the Ma
 x! is a recurring program on Thursday afternoons and is recommended for gr
 ades K-3. This program is included with Museum Admission or Membership.
DTSTART;TZID=America/Denver:20300718T153000
DTEND;TZID=America/Denver:20300718T161500
LOCATION:
SUMMARY:STEAM to the Max!
END:VEVENT
END:VCALENDAR
