BEGIN:VCALENDAR
VERSION:2.0
PRODID:-//wowchildrensmuseum.org//NONSGML kigkonsult.se iCalcreator 2.30.10
 //
CALSCALE:GREGORIAN
METHOD:PUBLISH
UID:45898a03-5340-4922-8dcf-83e01ac7ac4b
X-WR-CALDESC:A series of hands-on programs for infants and toddlers (ages 0
 -3 years) and their caregivers to explore fine motor\, gross motor\, and c
 ognitive experiences.\n\nInfants and toddlers are learning and developing 
 every second of every day. Our “Littlest Learners“ classes are designed wi
 th your child in mind. Classes will be held in a designated space for just
  our youngest visitors where children will explore gross motor\, fine moto
 r\, and cognitive experiences. Classes will encourage:\n\n-Gross motor dev
 elopment\n-Fine motor development\n-Cognitive development\n-Emotional deve
 lopment\n-Social development\n\nIt is our hope that caregivers will have t
 he opportunity to form bonds and relationships with other caregivers too!
 \n\nNo registration required. Included with Museum Admission or Membership
 .
X-WR-RELCALID:3ae8d5c31e8fc7cff978438588eed138
X-WR-TIMEZONE:America/Denver
BEGIN:VTIMEZONE
TZID:America/Denver
BEGIN:STANDARD
TZNAME:MST
DTSTART:20281105T020000
TZOFFSETFROM:-0600
TZOFFSETTO:-0700
RDATE:20291104T020000
END:STANDARD
BEGIN:DAYLIGHT
TZNAME:MDT
DTSTART:20280312T020000
TZOFFSETFROM:-0700
TZOFFSETTO:-0600
RDATE:20290311T020000
RDATE:20300310T020000
END:DAYLIGHT
END:VTIMEZONE
BEGIN:VEVENT
UID:b4a843f0-9a5a-414c-950f-e0ba3cd0efe2
DTSTAMP:20260424T035258Z
DESCRIPTION:A series of hands-on programs for infants and toddlers (ages 0-
 3 years) and their caregivers to explore fine motor\, gross motor\, and co
 gnitive experiences.\n\nInfants and toddlers are learning and developing e
 very second of every day. Our “Littlest Learners“ classes are designed wit
 h your child in mind. Classes will be held in a designated space for just 
 our youngest visitors where children will explore gross motor\, fine motor
 \, and cognitive experiences. Classes will encourage:\n\n-Gross motor deve
 lopment\n-Fine motor development\n-Cognitive development\n-Emotional devel
 opment\n-Social development\n\nIt is our hope that caregivers will have th
 e opportunity to form bonds and relationships with other caregivers too!\n
 \nNo registration required. Included with Museum Admission or Membership.
DTSTART;TZID=America/Denver:20290221T093000
DTEND;TZID=America/Denver:20290221T100000
LOCATION:
SUMMARY:Littlest Learners
END:VEVENT
END:VCALENDAR
