BEGIN:VCALENDAR
VERSION:2.0
PRODID:-//wowchildrensmuseum.org//NONSGML kigkonsult.se iCalcreator 2.30.10
 //
CALSCALE:GREGORIAN
METHOD:PUBLISH
UID:9aaa5380-fae4-4bc2-ace3-d0cc450b074c
X-WR-CALDESC:Join us a special all ages story time!\n\nIncluded with Museum
  Admission or Membership.
X-WR-RELCALID:59e74a6eaf212ad06080fd0baa059c6f
X-WR-TIMEZONE:America/Denver
BEGIN:VTIMEZONE
TZID:America/Denver
BEGIN:STANDARD
TZNAME:MST
DTSTART:20251102T020000
TZOFFSETFROM:-0600
TZOFFSETTO:-0700
RDATE:20261101T020000
RDATE:20271107T020000
END:STANDARD
BEGIN:DAYLIGHT
TZNAME:MDT
DTSTART:20260308T020000
TZOFFSETFROM:-0700
TZOFFSETTO:-0600
RDATE:20270314T020000
END:DAYLIGHT
END:VTIMEZONE
BEGIN:VEVENT
UID:d794b2e9-bbe3-4eac-b543-2bd82b4668a6
DTSTAMP:20260420T000831Z
DESCRIPTION:Join us a special all ages story time!\n\nIncluded with Museum 
 Admission or Membership.
DTSTART;TZID=America/Denver:20260827T110000
DTEND;TZID=America/Denver:20260827T113000
LOCATION:
SUMMARY:Storytime
END:VEVENT
END:VCALENDAR
