BEGIN:VCALENDAR
VERSION:2.0
PRODID:-//wowchildrensmuseum.org//NONSGML kigkonsult.se iCalcreator 2.30.10
 //
CALSCALE:GREGORIAN
METHOD:PUBLISH
UID:c3237464-20c6-4272-9ff7-2f02fb88e801
X-WR-CALDESC:WOW! is happy to host Play-Well TEKnologies for their summer c
 amp\, STEM Discovery using LEGO® Materials. This week-long camp is for chi
 ldren ages 5-7. \n\nUnleash your creativity with tens of thousands of LEGO
 ® pieces at your fingertips! Build engineer-designed projects as you disco
 ver the world around us through our inquiry-based learning model. Projects
  are rotated seasonally to ensure that both new and returning students can
  explore the endless creative possibilities of the LEGO® building system.
X-WR-RELCALID:40d2775e0ca80142a3205c603c64b4bd
X-WR-TIMEZONE:America/Denver
BEGIN:VTIMEZONE
TZID:America/Denver
BEGIN:STANDARD
TZNAME:MST
DTSTART:20251102T020000
TZOFFSETFROM:-0600
TZOFFSETTO:-0700
RDATE:20261101T020000
RDATE:20271107T020000
END:STANDARD
BEGIN:DAYLIGHT
TZNAME:MDT
DTSTART:20260308T020000
TZOFFSETFROM:-0700
TZOFFSETTO:-0600
RDATE:20270314T020000
END:DAYLIGHT
END:VTIMEZONE
BEGIN:VEVENT
UID:10f10f21-a28d-4ad8-8249-d0cc6eb2e52f
DTSTAMP:20260419T222018Z
DESCRIPTION:WOW! is happy to host Play-Well TEKnologies for their summer ca
 mp\, STEM Discovery using LEGO® Materials. This week-long camp is for chil
 dren ages 5-7. \n\nUnleash your creativity with tens of thousands of LEGO®
  pieces at your fingertips! Build engineer-designed projects as you discov
 er the world around us through our inquiry-based learning model. Projects 
 are rotated seasonally to ensure that both new and returning students can 
 explore the endless creative possibilities of the LEGO® building system.
DTSTART;TZID=America/Denver:20260727T090000
DTEND;TZID=America/Denver:20260731T120000
LOCATION:
SUMMARY:Play-well TEKnologies Camp ($)
END:VEVENT
END:VCALENDAR
