BEGIN:VCALENDAR
VERSION:2.0
PRODID:-//wowchildrensmuseum.org//NONSGML kigkonsult.se iCalcreator 2.30.10
 //
CALSCALE:GREGORIAN
METHOD:PUBLISH
UID:d1af4b28-f1dd-4b73-a369-0fe0b0155f0c
X-WR-CALDESC:Spring has sprung! Join our educators in the Discovery Garden 
 for your chance to get your hands a bit dirty\, learn about our growing wo
 rld\, and help us plant our garden!\n\nIncluded with Museum Admission or M
 embership.
X-WR-RELCALID:05fd53d24b38707fd09ddd714990276c
X-WR-TIMEZONE:America/Denver
BEGIN:VTIMEZONE
TZID:America/Denver
BEGIN:STANDARD
TZNAME:MST
DTSTART:20251102T020000
TZOFFSETFROM:-0600
TZOFFSETTO:-0700
RDATE:20261101T020000
END:STANDARD
BEGIN:DAYLIGHT
TZNAME:MDT
DTSTART:20260308T020000
TZOFFSETFROM:-0700
TZOFFSETTO:-0600
RDATE:20270314T020000
END:DAYLIGHT
END:VTIMEZONE
BEGIN:VEVENT
UID:724b945f-9ae0-4feb-a55b-0ab427caa372
DTSTAMP:20260420T235352Z
DESCRIPTION:Spring has sprung! Join our educators in the Discovery Garden f
 or your chance to get your hands a bit dirty\, learn about our growing wor
 ld\, and help us plant our garden!\n\nIncluded with Museum Admission or Me
 mbership.
DTSTART;TZID=America/Denver:20260422T103000
DTEND;TZID=America/Denver:20260422T113000
LOCATION:
SUMMARY:Let's Get Growing! Garden Program
END:VEVENT
END:VCALENDAR
