BEGIN:VCALENDAR
VERSION:2.0
PRODID:-//wowchildrensmuseum.org//NONSGML kigkonsult.se iCalcreator 2.30.10
 //
CALSCALE:GREGORIAN
METHOD:PUBLISH
UID:e9de0278-c3cd-4cfa-a584-a58be30285fa
X-WR-CALDESC:Join us a special all ages story time! Included with Museum Ad
 mission or Membership.\n\nAcompáñanos para una sesión especial de cuentacu
 entos para todas las edades. \nIncluido con entrada al museo o con membres
 ía.
X-WR-RELCALID:2af1e4dbc8f31fcfa942229f36ffece6
X-WR-TIMEZONE:America/Denver
BEGIN:VTIMEZONE
TZID:America/Denver
BEGIN:STANDARD
TZNAME:MST
DTSTART:20251102T020000
TZOFFSETFROM:-0600
TZOFFSETTO:-0700
RDATE:20261101T020000
END:STANDARD
BEGIN:DAYLIGHT
TZNAME:MDT
DTSTART:20260308T020000
TZOFFSETFROM:-0700
TZOFFSETTO:-0600
RDATE:20270314T020000
END:DAYLIGHT
END:VTIMEZONE
BEGIN:VEVENT
UID:9e32a656-a387-4491-b590-5d9c2cf30565
DTSTAMP:20260419T185134Z
DESCRIPTION:Join us a special all ages story time! Included with Museum Adm
 ission or Membership.\n\nAcompáñanos para una sesión especial de cuentacue
 ntos para todas las edades. \nIncluido con entrada al museo o con membresí
 a.
DTSTART;TZID=America/Denver:20260402T110000
DTEND;TZID=America/Denver:20260402T113000
LOCATION:
SUMMARY:Bilingual Storytime
END:VEVENT
END:VCALENDAR
