BEGIN:VCALENDAR
VERSION:2.0
PRODID:-//wowchildrensmuseum.org//NONSGML kigkonsult.se iCalcreator 2.30.10
 //
CALSCALE:GREGORIAN
METHOD:PUBLISH
UID:e89d3bff-dc46-4b07-8953-85d11f2bc8e0
X-WR-CALDESC:3.14 means it's Pi Day! Join us for special math and early num
 eracy crafts and activities throughout the day!\n\nIncluded with Museum Ad
 mission or Membership.
X-WR-RELCALID:8182525ad61f8fc2225228463d341c62
X-WR-TIMEZONE:America/Denver
BEGIN:VTIMEZONE
TZID:America/Denver
BEGIN:STANDARD
TZNAME:MST
DTSTART:20251102T020000
TZOFFSETFROM:-0600
TZOFFSETTO:-0700
RDATE:20261101T020000
END:STANDARD
BEGIN:DAYLIGHT
TZNAME:MDT
DTSTART:20260308T020000
TZOFFSETFROM:-0700
TZOFFSETTO:-0600
RDATE:20270314T020000
END:DAYLIGHT
END:VTIMEZONE
BEGIN:VEVENT
UID:4f49179c-7dbf-414a-9be0-f965d3368634
DTSTAMP:20260419T184401Z
DESCRIPTION:3.14 means it's Pi Day! Join us for special math and early nume
 racy crafts and activities throughout the day!\n\nIncluded with Museum Adm
 ission or Membership.
DTSTART;TZID=America/Denver:20260314T090000
DTEND;TZID=America/Denver:20260314T170000
LOCATION:
SUMMARY:Pi Day Celebration
END:VEVENT
END:VCALENDAR
