BEGIN:VCALENDAR
VERSION:2.0
PRODID:-//wowchildrensmuseum.org//NONSGML kigkonsult.se iCalcreator 2.30.10
 //
CALSCALE:GREGORIAN
METHOD:PUBLISH
UID:717a0650-6a1c-46b6-859a-dae6b11674ec
X-WR-CALDESC:Join us for Sensory Friendly Playtime\, a special Museum progr
 am for children with autism spectrum or sensory processing disorders. WOW!
  will limit capacity\, turn down sounds and lights\, and provide adaptive 
 equipment to offer a safe and fun experience for all! Characters from The 
 Fairy Foundation will join us today!\n\nAdmission is $1 for participants t
 hanks to WOW!'s donor-supported Play for All Initiative.\nIf the registrat
 ion link is inactive\, that means our event is at full capacity and we can
 not accept new registrations.
X-WR-RELCALID:ec032fd41029483fc90f2f8ffceaeb75
X-WR-TIMEZONE:America/Denver
BEGIN:VTIMEZONE
TZID:America/Denver
BEGIN:STANDARD
TZNAME:MST
DTSTART:20251102T020000
TZOFFSETFROM:-0600
TZOFFSETTO:-0700
RDATE:20261101T020000
END:STANDARD
BEGIN:DAYLIGHT
TZNAME:MDT
DTSTART:20250309T020000
TZOFFSETFROM:-0700
TZOFFSETTO:-0600
RDATE:20260308T020000
RDATE:20270314T020000
END:DAYLIGHT
END:VTIMEZONE
BEGIN:VEVENT
UID:d11da709-20fb-44e8-90ca-beef28fcdfb5
DTSTAMP:20260419T202559Z
DESCRIPTION:Join us for Sensory Friendly Playtime\, a special Museum progra
 m for children with autism spectrum or sensory processing disorders. WOW! 
 will limit capacity\, turn down sounds and lights\, and provide adaptive e
 quipment to offer a safe and fun experience for all! Characters from The F
 airy Foundation will join us today!\n\nAdmission is $1 for participants th
 anks to WOW!'s donor-supported Play for All Initiative.\nIf the registrati
 on link is inactive\, that means our event is at full capacity and we cann
 ot accept new registrations.
DTSTART;TZID=America/Denver:20260222T100000
DTEND;TZID=America/Denver:20260222T120000
LOCATION:
SUMMARY:Sensory Friendly Playtime
END:VEVENT
END:VCALENDAR
