BEGIN:VCALENDAR
VERSION:2.0
PRODID:-//wowchildrensmuseum.org//NONSGML kigkonsult.se iCalcreator 2.30.10
 //
CALSCALE:GREGORIAN
METHOD:PUBLISH
UID:bf4e330e-e38e-47b5-a357-19e5464220b0
X-WR-CALDESC:WOW! will be closing at 4:30pm today in preparation of our Be 
 My Baby event. Thank you for understanding!
X-WR-RELCALID:5519155333bbec9e63cb4a92ebb8893d
X-WR-TIMEZONE:America/Denver
BEGIN:VTIMEZONE
TZID:America/Denver
BEGIN:STANDARD
TZNAME:MST
DTSTART:20251102T020000
TZOFFSETFROM:-0600
TZOFFSETTO:-0700
RDATE:20261101T020000
END:STANDARD
BEGIN:DAYLIGHT
TZNAME:MDT
DTSTART:20250309T020000
TZOFFSETFROM:-0700
TZOFFSETTO:-0600
RDATE:20260308T020000
RDATE:20270314T020000
END:DAYLIGHT
END:VTIMEZONE
BEGIN:VEVENT
UID:7a1ce1d0-586d-4c49-8ce4-15824e9fae5b
DTSTAMP:20260420T002849Z
DESCRIPTION:WOW! will be closing at 4:30pm today in preparation of our Be M
 y Baby event. Thank you for understanding!
DTSTART;TZID=America/Denver:20260213T040000
DTEND;TZID=America/Denver:20260213T040001
LOCATION:
SUMMARY:Museum Closing at 4:30
END:VEVENT
END:VCALENDAR
