BEGIN:VCALENDAR
VERSION:2.0
PRODID:-//wowchildrensmuseum.org//NONSGML kigkonsult.se iCalcreator 2.30.10
 //
CALSCALE:GREGORIAN
METHOD:PUBLISH
UID:449fa6c4-5e1a-49d9-a06f-fa4a7d688572
X-WR-CALDESC:Join us for this series of stories and crafts led by WOW! supe
 r volunteer\, Korrie! Each session will be a new topic\, storytime\, and c
 raft.\n\nThis session's theme: Creating Kindness!\n\nIncluded with Museum 
 Admission or Membership
X-WR-RELCALID:245c569142451f11ca1e214f96b228c1
X-WR-TIMEZONE:America/Denver
BEGIN:VTIMEZONE
TZID:America/Denver
BEGIN:STANDARD
TZNAME:MST
DTSTART:20251102T020000
TZOFFSETFROM:-0600
TZOFFSETTO:-0700
RDATE:20261101T020000
END:STANDARD
BEGIN:DAYLIGHT
TZNAME:MDT
DTSTART:20250309T020000
TZOFFSETFROM:-0700
TZOFFSETTO:-0600
RDATE:20260308T020000
RDATE:20270314T020000
END:DAYLIGHT
END:VTIMEZONE
BEGIN:VEVENT
UID:9a3460c7-12c1-4796-9d78-ce9b7f254568
DTSTAMP:20260419T202705Z
DESCRIPTION:Join us for this series of stories and crafts led by WOW! super
  volunteer\, Korrie! Each session will be a new topic\, storytime\, and cr
 aft.\n\nThis session's theme: Creating Kindness!\n\nIncluded with Museum A
 dmission or Membership
DTSTART;TZID=America/Denver:20260210T100000
DTEND;TZID=America/Denver:20260210T104500
LOCATION:
SUMMARY:Story Craft Workshop
END:VEVENT
END:VCALENDAR
