BEGIN:VCALENDAR
VERSION:2.0
PRODID:-//wowchildrensmuseum.org//NONSGML kigkonsult.se iCalcreator 2.30.10
 //
CALSCALE:GREGORIAN
METHOD:PUBLISH
UID:884cec30-3265-4eef-96a1-6227d60c2b34
X-WR-CALDESC:
X-WR-RELCALID:234a62f8c3a359b9571e35e9548659ce
X-WR-TIMEZONE:America/Denver
BEGIN:VTIMEZONE
TZID:America/Denver
BEGIN:STANDARD
TZNAME:MST
DTSTART:20251102T020000
TZOFFSETFROM:-0600
TZOFFSETTO:-0700
RDATE:20261101T020000
END:STANDARD
BEGIN:DAYLIGHT
TZNAME:MDT
DTSTART:20250309T020000
TZOFFSETFROM:-0700
TZOFFSETTO:-0600
RDATE:20260308T020000
RDATE:20270314T020000
END:DAYLIGHT
END:VTIMEZONE
BEGIN:VEVENT
UID:89e4f822-3dcd-48a1-9461-244bee4240cb
DTSTAMP:20260419T221850Z
DESCRIPTION:
DTSTART;TZID=America/Denver:20260105T090000
DTEND;TZID=America/Denver:20260105T170000
LOCATION:
SUMMARY:Museum Open- Winter Break
END:VEVENT
END:VCALENDAR
