BEGIN:VCALENDAR
VERSION:2.0
PRODID:-//wowchildrensmuseum.org//NONSGML kigkonsult.se iCalcreator 2.30.10
 //
CALSCALE:GREGORIAN
METHOD:PUBLISH
UID:e92fba89-f22c-4892-970b-55c877372f79
X-WR-CALDESC:Come to WOW! this Winter Break and take part in extra awesome 
 STEAM activities\, brought to you by WOW! team member\, Max! Today we're m
 aking Paper Sparklers.\n\nThis program is included with Museum Admission o
 r Membership.
X-WR-RELCALID:e5ca790b2e22d46061bb5db106001734
X-WR-TIMEZONE:America/Denver
BEGIN:VTIMEZONE
TZID:America/Denver
BEGIN:STANDARD
TZNAME:MST
DTSTART:20251102T020000
TZOFFSETFROM:-0600
TZOFFSETTO:-0700
RDATE:20261101T020000
END:STANDARD
BEGIN:DAYLIGHT
TZNAME:MDT
DTSTART:20250309T020000
TZOFFSETFROM:-0700
TZOFFSETTO:-0600
RDATE:20260308T020000
RDATE:20270314T020000
END:DAYLIGHT
END:VTIMEZONE
BEGIN:VEVENT
UID:beebd8f6-d4c9-4a5b-a4db-bda149b32505
DTSTAMP:20260420T001041Z
DESCRIPTION:Come to WOW! this Winter Break and take part in extra awesome S
 TEAM activities\, brought to you by WOW! team member\, Max! Today we're ma
 king Paper Sparklers.\n\nThis program is included with Museum Admission or
  Membership.
DTSTART;TZID=America/Denver:20251230T153000
DTEND;TZID=America/Denver:20251230T161500
LOCATION:
SUMMARY:STEAM to the Max!
END:VEVENT
END:VCALENDAR
