BEGIN:VCALENDAR
VERSION:2.0
PRODID:-//wowchildrensmuseum.org//NONSGML kigkonsult.se iCalcreator 2.30.10
 //
CALSCALE:GREGORIAN
METHOD:PUBLISH
UID:4f040272-c7c1-47bf-b75e-396c049457a8
X-WR-CALDESC:Join us for drop-in programming all Winter Break! Included wit
 h Museum Admission or Membership.
X-WR-RELCALID:1084ed16f46a56dc3062a144f819aac4
X-WR-TIMEZONE:America/Denver
BEGIN:VTIMEZONE
TZID:America/Denver
BEGIN:STANDARD
TZNAME:MST
DTSTART:20251102T020000
TZOFFSETFROM:-0600
TZOFFSETTO:-0700
RDATE:20261101T020000
END:STANDARD
BEGIN:DAYLIGHT
TZNAME:MDT
DTSTART:20250309T020000
TZOFFSETFROM:-0700
TZOFFSETTO:-0600
RDATE:20260308T020000
RDATE:20270314T020000
END:DAYLIGHT
END:VTIMEZONE
BEGIN:VEVENT
UID:36950645-76a3-43e1-8ca4-85195cda46f8
DTSTAMP:20260420T001554Z
DESCRIPTION:Join us for drop-in programming all Winter Break! Included with
  Museum Admission or Membership.
DTSTART;TZID=America/Denver:20251230T100000
DTEND;TZID=America/Denver:20251230T103000
LOCATION:
SUMMARY:Paper Towel Tube Fireworks Print craft
END:VEVENT
END:VCALENDAR
