BEGIN:VCALENDAR
VERSION:2.0
PRODID:-//wowchildrensmuseum.org//NONSGML kigkonsult.se iCalcreator 2.30.10
 //
CALSCALE:GREGORIAN
METHOD:PUBLISH
UID:ceabf6bc-11fa-4f7d-b746-1de4f0027a4e
X-WR-CALDESC:
X-WR-RELCALID:c07bcb6be76ededaa7c83c73286a22a9
X-WR-TIMEZONE:America/Denver
BEGIN:VTIMEZONE
TZID:America/Denver
BEGIN:STANDARD
TZNAME:MST
DTSTART:20251102T020000
TZOFFSETFROM:-0600
TZOFFSETTO:-0700
RDATE:20261101T020000
END:STANDARD
BEGIN:DAYLIGHT
TZNAME:MDT
DTSTART:20250309T020000
TZOFFSETFROM:-0700
TZOFFSETTO:-0600
RDATE:20260308T020000
RDATE:20270314T020000
END:DAYLIGHT
END:VTIMEZONE
BEGIN:VEVENT
UID:4cdef7d5-1c4c-4a31-a6ce-5584d856916b
DTSTAMP:20260420T000437Z
DESCRIPTION:
DTSTART;TZID=America/Denver:20251229T090000
DTEND;TZID=America/Denver:20251229T170000
LOCATION:
SUMMARY:Museum Open- Winter Break
END:VEVENT
END:VCALENDAR
