BEGIN:VCALENDAR
VERSION:2.0
PRODID:-//wowchildrensmuseum.org//NONSGML kigkonsult.se iCalcreator 2.30.10
 //
CALSCALE:GREGORIAN
METHOD:PUBLISH
UID:510bddde-c07c-43c8-87f2-b150ace02ecc
X-WR-CALDESC:Happy Holidays! WOW! will be closed today.
X-WR-RELCALID:b5f28c0f202c935fc1665ede6c499850
X-WR-TIMEZONE:America/Denver
BEGIN:VTIMEZONE
TZID:America/Denver
BEGIN:STANDARD
TZNAME:MST
DTSTART:20251102T020000
TZOFFSETFROM:-0600
TZOFFSETTO:-0700
RDATE:20261101T020000
END:STANDARD
BEGIN:DAYLIGHT
TZNAME:MDT
DTSTART:20250309T020000
TZOFFSETFROM:-0700
TZOFFSETTO:-0600
RDATE:20260308T020000
RDATE:20270314T020000
END:DAYLIGHT
END:VTIMEZONE
BEGIN:VEVENT
UID:ce4fa61a-2124-4bba-abf9-b2d6a3106ec9
DTSTAMP:20260420T001235Z
DESCRIPTION:Happy Holidays! WOW! will be closed today.
DTSTART;TZID=America/Denver:20251224T040000
DTEND;TZID=America/Denver:20251224T040001
LOCATION:
SUMMARY:Museum Closed- Christmas Eve
END:VEVENT
END:VCALENDAR
