BEGIN:VCALENDAR
VERSION:2.0
PRODID:-//wowchildrensmuseum.org//NONSGML kigkonsult.se iCalcreator 2.30.10
 //
CALSCALE:GREGORIAN
METHOD:PUBLISH
UID:d26b27a8-a46a-49bf-a98b-6f06ce0146c7
X-WR-CALDESC:Join us for drop-in programming all Winter Break! Included wit
 h Museum Admission or Membership.
X-WR-RELCALID:65f5ddf2c09aedc9ae0876f2ee67c1c4
X-WR-TIMEZONE:America/Denver
BEGIN:VTIMEZONE
TZID:America/Denver
BEGIN:STANDARD
TZNAME:MST
DTSTART:20251102T020000
TZOFFSETFROM:-0600
TZOFFSETTO:-0700
RDATE:20261101T020000
END:STANDARD
BEGIN:DAYLIGHT
TZNAME:MDT
DTSTART:20250309T020000
TZOFFSETFROM:-0700
TZOFFSETTO:-0600
RDATE:20260308T020000
RDATE:20270314T020000
END:DAYLIGHT
END:VTIMEZONE
BEGIN:VEVENT
UID:103fe130-977b-4066-84f3-a8f765b13360
DTSTAMP:20260420T001047Z
DESCRIPTION:Join us for drop-in programming all Winter Break! Included with
  Museum Admission or Membership.
DTSTART;TZID=America/Denver:20251223T100000
DTEND;TZID=America/Denver:20251223T110000
LOCATION:
SUMMARY:Snowman Masks craft
END:VEVENT
END:VCALENDAR
