BEGIN:VCALENDAR
VERSION:2.0
PRODID:-//wowchildrensmuseum.org//NONSGML kigkonsult.se iCalcreator 2.30.10
 //
CALSCALE:GREGORIAN
METHOD:PUBLISH
UID:43840d31-7f3b-490c-8792-039a01a5b2d5
X-WR-CALDESC:Join us for drop-in programs all Winter Break! Included with M
 useum Admission or Membership.
X-WR-RELCALID:9e4f6f4acbc9a0eee8457ed241ca6d17
X-WR-TIMEZONE:America/Denver
BEGIN:VTIMEZONE
TZID:America/Denver
BEGIN:STANDARD
TZNAME:MST
DTSTART:20251102T020000
TZOFFSETFROM:-0600
TZOFFSETTO:-0700
RDATE:20261101T020000
END:STANDARD
BEGIN:DAYLIGHT
TZNAME:MDT
DTSTART:20250309T020000
TZOFFSETFROM:-0700
TZOFFSETTO:-0600
RDATE:20260308T020000
RDATE:20270314T020000
END:DAYLIGHT
END:VTIMEZONE
BEGIN:VEVENT
UID:92c0fb52-e0ef-4fd9-817d-6b3cce7db0dc
DTSTAMP:20260420T000931Z
DESCRIPTION:Join us for drop-in programs all Winter Break! Included with Mu
 seum Admission or Membership.
DTSTART;TZID=America/Denver:20251222T100000
DTEND;TZID=America/Denver:20251222T110000
LOCATION:
SUMMARY:Ripped Paper Collage craft
END:VEVENT
END:VCALENDAR
