BEGIN:VCALENDAR
VERSION:2.0
PRODID:-//wowchildrensmuseum.org//NONSGML kigkonsult.se iCalcreator 2.30.10
 //
CALSCALE:GREGORIAN
METHOD:PUBLISH
UID:24fcad50-2f76-479d-814e-0c33ade15f2b
X-WR-CALDESC:A series of hands-on programs for infants and toddlers (ages 0
 -3 years) and their caregivers to explore fine motor\, gross motor\, and c
 ognitive experiences.\n\nInfants and toddlers are learning and developing 
 every second of every day. Our “Littlest Learners“ classes are designed wi
 th your child in mind. Classes will be held in a designated space for just
  our youngest visitors where children will explore gross motor\, fine moto
 r\, and cognitive experiences. Classes will encourage:\n\n-Gross motor dev
 elopment\n-Fine motor development\n-Cognitive development\n-Emotional deve
 lopment\n-Social development\n\nIt is our hope that caregivers will have t
 he opportunity to form bonds and relationships with other caregivers too!
 \n\nNo registration required. Included with Museum Admission or Membership
 .
X-WR-RELCALID:dea42ac6da5e9ae83137010c1731f14d
X-WR-TIMEZONE:America/Denver
BEGIN:VTIMEZONE
TZID:America/Denver
BEGIN:STANDARD
TZNAME:MST
DTSTART:20251102T020000
TZOFFSETFROM:-0600
TZOFFSETTO:-0700
RDATE:20261101T020000
END:STANDARD
BEGIN:DAYLIGHT
TZNAME:MDT
DTSTART:20250309T020000
TZOFFSETFROM:-0700
TZOFFSETTO:-0600
RDATE:20260308T020000
RDATE:20270314T020000
END:DAYLIGHT
END:VTIMEZONE
BEGIN:VEVENT
UID:237286ef-9de6-4ecd-a3d9-3443dceefd5a
DTSTAMP:20260420T000629Z
DESCRIPTION:A series of hands-on programs for infants and toddlers (ages 0-
 3 years) and their caregivers to explore fine motor\, gross motor\, and co
 gnitive experiences.\n\nInfants and toddlers are learning and developing e
 very second of every day. Our “Littlest Learners“ classes are designed wit
 h your child in mind. Classes will be held in a designated space for just 
 our youngest visitors where children will explore gross motor\, fine motor
 \, and cognitive experiences. Classes will encourage:\n\n-Gross motor deve
 lopment\n-Fine motor development\n-Cognitive development\n-Emotional devel
 opment\n-Social development\n\nIt is our hope that caregivers will have th
 e opportunity to form bonds and relationships with other caregivers too!\n
 \nNo registration required. Included with Museum Admission or Membership.
DTSTART;TZID=America/Denver:20251203T093000
DTEND;TZID=America/Denver:20251203T100000
LOCATION:
SUMMARY:Littlest Learners
END:VEVENT
END:VCALENDAR
