BEGIN:VCALENDAR
VERSION:2.0
PRODID:-//wowchildrensmuseum.org//NONSGML kigkonsult.se iCalcreator 2.30.10
 //
CALSCALE:GREGORIAN
METHOD:PUBLISH
UID:8ef532d0-5a1b-408d-a731-8f01a3e39d04
X-WR-CALDESC:Join us for drop-in programming all week! Included in Museum A
 dmission or Membership.
X-WR-RELCALID:5834bdc6eec40d9c29bc6710430c8e84
X-WR-TIMEZONE:America/Denver
BEGIN:VTIMEZONE
TZID:America/Denver
BEGIN:STANDARD
TZNAME:MST
DTSTART:20251102T020000
TZOFFSETFROM:-0600
TZOFFSETTO:-0700
RDATE:20261101T020000
END:STANDARD
BEGIN:DAYLIGHT
TZNAME:MDT
DTSTART:20250309T020000
TZOFFSETFROM:-0700
TZOFFSETTO:-0600
RDATE:20260308T020000
RDATE:20270314T020000
END:DAYLIGHT
END:VTIMEZONE
BEGIN:VEVENT
UID:52a9e77c-fc53-4094-ab04-585c002d2a54
DTSTAMP:20260420T014729Z
DESCRIPTION:Join us for drop-in programming all week! Included in Museum Ad
 mission or Membership.
DTSTART;TZID=America/Denver:20251128T110000
DTEND;TZID=America/Denver:20251128T120000
LOCATION:
SUMMARY:Leaf Spray Painting craft
END:VEVENT
END:VCALENDAR
