BEGIN:VCALENDAR
VERSION:2.0
PRODID:-//wowchildrensmuseum.org//NONSGML kigkonsult.se iCalcreator 2.30.10
 //
CALSCALE:GREGORIAN
METHOD:PUBLISH
UID:7e7eed66-79a0-40ba-8f8b-f2cf30622e19
X-WR-CALDESC:Happy Thanksgiving! WOW! will be closed today in celebration o
 f the holiday.
X-WR-RELCALID:e29dcbbcc2f2e4ae758b510e16cc2665
X-WR-TIMEZONE:America/Denver
BEGIN:VTIMEZONE
TZID:America/Denver
BEGIN:STANDARD
TZNAME:MST
DTSTART:20251102T020000
TZOFFSETFROM:-0600
TZOFFSETTO:-0700
RDATE:20261101T020000
END:STANDARD
BEGIN:DAYLIGHT
TZNAME:MDT
DTSTART:20250309T020000
TZOFFSETFROM:-0700
TZOFFSETTO:-0600
RDATE:20260308T020000
RDATE:20270314T020000
END:DAYLIGHT
END:VTIMEZONE
BEGIN:VEVENT
UID:8dd50c82-0ecb-4dbd-90d8-97910be123a5
DTSTAMP:20260420T014831Z
DESCRIPTION:Happy Thanksgiving! WOW! will be closed today in celebration of
  the holiday.
DTSTART;TZID=America/Denver:20251127T040000
DTEND;TZID=America/Denver:20251127T040001
LOCATION:
SUMMARY:Museum Closed- Thanksgiving
END:VEVENT
END:VCALENDAR
