BEGIN:VCALENDAR
VERSION:2.0
PRODID:-//wowchildrensmuseum.org//NONSGML kigkonsult.se iCalcreator 2.30.10
 //
CALSCALE:GREGORIAN
METHOD:PUBLISH
UID:fdc4d373-ec30-41c0-af1b-c3031e5f2268
X-WR-CALDESC:Join us for drop-in programming all week long! Included with M
 useum Admission or Membership.
X-WR-RELCALID:fea1a9b286313e3b50f1789a0f795233
X-WR-TIMEZONE:America/Denver
BEGIN:VTIMEZONE
TZID:America/Denver
BEGIN:STANDARD
TZNAME:MST
DTSTART:20251102T020000
TZOFFSETFROM:-0600
TZOFFSETTO:-0700
RDATE:20261101T020000
END:STANDARD
BEGIN:DAYLIGHT
TZNAME:MDT
DTSTART:20250309T020000
TZOFFSETFROM:-0700
TZOFFSETTO:-0600
RDATE:20260308T020000
RDATE:20270314T020000
END:DAYLIGHT
END:VTIMEZONE
BEGIN:VEVENT
UID:4529f116-1777-4ced-bb37-eadaaae1e898
DTSTAMP:20260420T014923Z
DESCRIPTION:Join us for drop-in programming all week long! Included with Mu
 seum Admission or Membership.
DTSTART;TZID=America/Denver:20251125T100000
DTEND;TZID=America/Denver:20251125T110000
LOCATION:
SUMMARY:Autumn Sun Catcher crafts
END:VEVENT
END:VCALENDAR
