BEGIN:VCALENDAR
VERSION:2.0
PRODID:-//wowchildrensmuseum.org//NONSGML kigkonsult.se iCalcreator 2.30.10
 //
CALSCALE:GREGORIAN
METHOD:PUBLISH
UID:abb804da-10ef-471b-a08a-484ade468377
X-WR-CALDESC:School is out and WOW! is open! We will be open 9:00am-5:00pm 
 today.
X-WR-RELCALID:b0de9be8018b6e75eb53bfc04f629604
X-WR-TIMEZONE:America/Denver
BEGIN:VTIMEZONE
TZID:America/Denver
BEGIN:STANDARD
TZNAME:MST
DTSTART:20251102T020000
TZOFFSETFROM:-0600
TZOFFSETTO:-0700
RDATE:20261101T020000
END:STANDARD
BEGIN:DAYLIGHT
TZNAME:MDT
DTSTART:20250309T020000
TZOFFSETFROM:-0700
TZOFFSETTO:-0600
RDATE:20260308T020000
RDATE:20270314T020000
END:DAYLIGHT
END:VTIMEZONE
BEGIN:VEVENT
UID:f3653d69-a968-4e1d-9a3f-2aff88bd2484
DTSTAMP:20260420T012039Z
DESCRIPTION:School is out and WOW! is open! We will be open 9:00am-5:00pm t
 oday.
DTSTART;TZID=America/Denver:20251124T090000
DTEND;TZID=America/Denver:20251124T170000
LOCATION:
SUMMARY:MUSEUM OPEN
END:VEVENT
END:VCALENDAR
