BEGIN:VCALENDAR
VERSION:2.0
PRODID:-//wowchildrensmuseum.org//NONSGML kigkonsult.se iCalcreator 2.30.10
 //
CALSCALE:GREGORIAN
METHOD:PUBLISH
UID:1d23abd9-5e4d-4710-973f-fb63c966ea6c
X-WR-CALDESC:WOW! Children's Museum and the Society of Children's Book Writ
 ers and Illustrators present Author Story Time! Join us today at 10am as w
 e welcome local author Ellen Javernick.\n\nAuthor Story Time is included i
 n Membership or Museum Admission\, and copies of the books will be availab
 le for purchase.
X-WR-RELCALID:6e754ce3e3fbe867b203109cff8c72eb
X-WR-TIMEZONE:America/Denver
BEGIN:VTIMEZONE
TZID:America/Denver
BEGIN:STANDARD
TZNAME:MST
DTSTART:20251102T020000
TZOFFSETFROM:-0600
TZOFFSETTO:-0700
RDATE:20261101T020000
END:STANDARD
BEGIN:DAYLIGHT
TZNAME:MDT
DTSTART:20250309T020000
TZOFFSETFROM:-0700
TZOFFSETTO:-0600
RDATE:20260308T020000
RDATE:20270314T020000
END:DAYLIGHT
END:VTIMEZONE
BEGIN:VEVENT
UID:55bc3b29-3e65-440b-ac6a-f739fc91b328
DTSTAMP:20260420T014729Z
DESCRIPTION:WOW! Children's Museum and the Society of Children's Book Write
 rs and Illustrators present Author Story Time! Join us today at 10am as we
  welcome local author Ellen Javernick.\n\nAuthor Story Time is included in
  Membership or Museum Admission\, and copies of the books will be availabl
 e for purchase.
DTSTART;TZID=America/Denver:20251107T110000
DTEND;TZID=America/Denver:20251107T114500
LOCATION:
SUMMARY:SCBWI Author Story Time
END:VEVENT
END:VCALENDAR
