BEGIN:VCALENDAR
VERSION:2.0
PRODID:-//wowchildrensmuseum.org//NONSGML kigkonsult.se iCalcreator 2.30.10
 //
CALSCALE:GREGORIAN
METHOD:PUBLISH
UID:777efddf-0bc8-4912-96f5-0fe0db2d1a86
X-WR-CALDESC:Gather around ghosts and goblins! Come get a good scare with o
 ur Halloween Costume Parade! Show off your cute\, spooky\, or down-right f
 rightening ghoulish get-up. All ages welcome and encouraged to dress up. 
 \n\nIncluded with Museum Admission or Membership.
X-WR-RELCALID:22642e54c589f874142859b0e1a6cc8b
X-WR-TIMEZONE:America/Denver
BEGIN:VTIMEZONE
TZID:America/Denver
BEGIN:STANDARD
TZNAME:MST
DTSTART:20241103T020000
TZOFFSETFROM:-0600
TZOFFSETTO:-0700
RDATE:20251102T020000
RDATE:20261101T020000
END:STANDARD
BEGIN:DAYLIGHT
TZNAME:MDT
DTSTART:20250309T020000
TZOFFSETFROM:-0700
TZOFFSETTO:-0600
RDATE:20260308T020000
RDATE:20270314T020000
END:DAYLIGHT
END:VTIMEZONE
BEGIN:VEVENT
UID:f39370a3-a181-47c7-965a-07e85392b5c6
DTSTAMP:20260420T031925Z
DESCRIPTION:Gather around ghosts and goblins! Come get a good scare with ou
 r Halloween Costume Parade! Show off your cute\, spooky\, or down-right fr
 ightening ghoulish get-up. All ages welcome and encouraged to dress up. \n
 \nIncluded with Museum Admission or Membership.
DTSTART;TZID=America/Denver:20251031T130000
DTEND;TZID=America/Denver:20251031T133000
LOCATION:
SUMMARY:Halloween Parade
END:VEVENT
END:VCALENDAR
