BEGIN:VCALENDAR
VERSION:2.0
PRODID:-//wowchildrensmuseum.org//NONSGML kigkonsult.se iCalcreator 2.30.10
 //
CALSCALE:GREGORIAN
METHOD:PUBLISH
UID:8722fb88-5edc-4dff-b25c-70e7d0e58b52
X-WR-CALDESC:WOW! is pleased to welcome back Boulder Opera to the Museum. J
 oin us for a special preview of their upcoming family production 'The Elix
 ir of Love.' This Storybook Opera will be held Friday\, October 31st at 10
 :00am at WOW!\n\nIncluded with Museum Admission or Membership.
X-WR-RELCALID:4875934b1f51b2609d2373921addfc00
X-WR-TIMEZONE:America/Denver
BEGIN:VTIMEZONE
TZID:America/Denver
BEGIN:STANDARD
TZNAME:MST
DTSTART:20241103T020000
TZOFFSETFROM:-0600
TZOFFSETTO:-0700
RDATE:20251102T020000
RDATE:20261101T020000
END:STANDARD
BEGIN:DAYLIGHT
TZNAME:MDT
DTSTART:20250309T020000
TZOFFSETFROM:-0700
TZOFFSETTO:-0600
RDATE:20260308T020000
RDATE:20270314T020000
END:DAYLIGHT
END:VTIMEZONE
BEGIN:VEVENT
UID:5c70dd74-b1b7-4f1c-a238-4dcd2e96cc62
DTSTAMP:20260420T031720Z
DESCRIPTION:WOW! is pleased to welcome back Boulder Opera to the Museum. Jo
 in us for a special preview of their upcoming family production 'The Elixi
 r of Love.' This Storybook Opera will be held Friday\, October 31st at 10:
 00am at WOW!\n\nIncluded with Museum Admission or Membership.
DTSTART;TZID=America/Denver:20251031T100000
DTEND;TZID=America/Denver:20251031T103000
LOCATION:
SUMMARY:Boulder Opera @ WOW!
END:VEVENT
END:VCALENDAR
