BEGIN:VCALENDAR
VERSION:2.0
PRODID:-//wowchildrensmuseum.org//NONSGML kigkonsult.se iCalcreator 2.30.10
 //
CALSCALE:GREGORIAN
METHOD:PUBLISH
UID:f9d588a2-8ab9-4f07-ad8f-ef15400d6965
X-WR-CALDESC:It's spooky! It's science! It's Spooky Science Day! Visit WOW!
  today for STEM Halloween activities happening between 10am-3pm. Activitie
 s include spiderweb spin art\, cabbage juice potions\, make your own skele
 ton hands and ghost portraits\, and more! \n\nIncluded with Museum Admissi
 on or Membership. \n\nBe advised that Lafayette's Fall Harvest Festival wi
 ll also be happening on Harrison Avenue this day. Lots of fun to be had\, 
 but parking may be limited.
X-WR-RELCALID:17f9393cc5e90435761ba16ec1ba3679
X-WR-TIMEZONE:America/Denver
BEGIN:VTIMEZONE
TZID:America/Denver
BEGIN:STANDARD
TZNAME:MST
DTSTART:20241103T020000
TZOFFSETFROM:-0600
TZOFFSETTO:-0700
RDATE:20251102T020000
RDATE:20261101T020000
END:STANDARD
BEGIN:DAYLIGHT
TZNAME:MDT
DTSTART:20250309T020000
TZOFFSETFROM:-0700
TZOFFSETTO:-0600
RDATE:20260308T020000
RDATE:20270314T020000
END:DAYLIGHT
END:VTIMEZONE
BEGIN:VEVENT
UID:fec533f1-940e-473c-8f2e-6fba79bff4fe
DTSTAMP:20260420T031823Z
DESCRIPTION:It's spooky! It's science! It's Spooky Science Day! Visit WOW! 
 today for STEM Halloween activities happening between 10am-3pm. Activities
  include spiderweb spin art\, cabbage juice potions\, make your own skelet
 on hands and ghost portraits\, and more! \n\nIncluded with Museum Admissio
 n or Membership. \n\nBe advised that Lafayette's Fall Harvest Festival wil
 l also be happening on Harrison Avenue this day. Lots of fun to be had\, b
 ut parking may be limited.
DTSTART;TZID=America/Denver:20251025T100000
DTEND;TZID=America/Denver:20251025T150000
LOCATION:
SUMMARY:Spooky Science Day!
END:VEVENT
END:VCALENDAR
