BEGIN:VCALENDAR
VERSION:2.0
PRODID:-//wowchildrensmuseum.org//NONSGML kigkonsult.se iCalcreator 2.30.10
 //
CALSCALE:GREGORIAN
METHOD:PUBLISH
UID:e3c75dcf-b8f9-4c01-a60b-59c19b4cb9b2
X-WR-CALDESC:WOW! Children's Museum and the Society of Children's Book Writ
 ers and Illustrators present Author Story Time! Join us today at 10am as w
 e welcome local author Elizabeth Everett.\n\nAuthor Story Time is included
  in Membership or Museum Admission\, and copies of the books will be avail
 able for purchase.
X-WR-RELCALID:cc7fdeecf6dcbeca1fd3ded8b0b756e9
X-WR-TIMEZONE:America/Denver
BEGIN:VTIMEZONE
TZID:America/Denver
BEGIN:STANDARD
TZNAME:MST
DTSTART:20241103T020000
TZOFFSETFROM:-0600
TZOFFSETTO:-0700
RDATE:20251102T020000
RDATE:20261101T020000
END:STANDARD
BEGIN:DAYLIGHT
TZNAME:MDT
DTSTART:20250309T020000
TZOFFSETFROM:-0700
TZOFFSETTO:-0600
RDATE:20260308T020000
RDATE:20270314T020000
END:DAYLIGHT
END:VTIMEZONE
BEGIN:VEVENT
UID:e715e90a-0aba-4cc2-8d60-5b71696bb598
DTSTAMP:20260420T032012Z
DESCRIPTION:WOW! Children's Museum and the Society of Children's Book Write
 rs and Illustrators present Author Story Time! Join us today at 10am as we
  welcome local author Elizabeth Everett.\n\nAuthor Story Time is included 
 in Membership or Museum Admission\, and copies of the books will be availa
 ble for purchase.
DTSTART;TZID=America/Denver:20251021T100000
DTEND;TZID=America/Denver:20251021T104500
LOCATION:
SUMMARY:SCBWI Author Story Time
END:VEVENT
END:VCALENDAR
