BEGIN:VCALENDAR
VERSION:2.0
PRODID:-//wowchildrensmuseum.org//NONSGML kigkonsult.se iCalcreator 2.30.10
 //
CALSCALE:GREGORIAN
METHOD:PUBLISH
UID:9519e3c9-0698-40c9-aa62-67281decf6ef
X-WR-CALDESC:Join us for Sensory Friendly Playtime\, a special Museum progr
 am for children with autism spectrum or sensory processing disorders. WOW!
  will limit capacity\, turn down sounds and lights\, and provide adaptive 
 equipment to offer a safe and fun experience for all! \n\nJoin us for tric
 k or treating throughout the Museum! The Fairy Foundation will be here too
 ! Costumes welcome\, but not required.\n\nAdmission is $1 for participants
  thanks to WOW!'s donor-supported Play for All Initiative.\nIf the registr
 ation link is inactive\, that means our event is at full capacity and we c
 annot accept new registrations.
X-WR-RELCALID:4fdbda14a68005aa65df70c0f4ff19d6
X-WR-TIMEZONE:America/Denver
BEGIN:VTIMEZONE
TZID:America/Denver
BEGIN:STANDARD
TZNAME:MST
DTSTART:20241103T020000
TZOFFSETFROM:-0600
TZOFFSETTO:-0700
RDATE:20251102T020000
RDATE:20261101T020000
END:STANDARD
BEGIN:DAYLIGHT
TZNAME:MDT
DTSTART:20250309T020000
TZOFFSETFROM:-0700
TZOFFSETTO:-0600
RDATE:20260308T020000
RDATE:20270314T020000
END:DAYLIGHT
END:VTIMEZONE
BEGIN:VEVENT
UID:e51c0763-4c99-49a5-8c2f-85e07588203d
DTSTAMP:20260420T031731Z
DESCRIPTION:Join us for Sensory Friendly Playtime\, a special Museum progra
 m for children with autism spectrum or sensory processing disorders. WOW! 
 will limit capacity\, turn down sounds and lights\, and provide adaptive e
 quipment to offer a safe and fun experience for all! \n\nJoin us for trick
  or treating throughout the Museum! The Fairy Foundation will be here too!
  Costumes welcome\, but not required.\n\nAdmission is $1 for participants 
 thanks to WOW!'s donor-supported Play for All Initiative.\nIf the registra
 tion link is inactive\, that means our event is at full capacity and we ca
 nnot accept new registrations.
DTSTART;TZID=America/Denver:20251019T100000
DTEND;TZID=America/Denver:20251019T120000
LOCATION:
SUMMARY:Sensory Friendly Playtime
END:VEVENT
END:VCALENDAR
