BEGIN:VCALENDAR
VERSION:2.0
PRODID:-//wowchildrensmuseum.org//NONSGML kigkonsult.se iCalcreator 2.30.10
 //
CALSCALE:GREGORIAN
METHOD:PUBLISH
UID:b6eb94b6-52a4-4197-b94a-ea10fa3359f9
X-WR-CALDESC:Hear ye! Hear ye! Colorado Shakespeare Festival is coming to W
 OW! Children's Museum! Join us for this family-friendly performance of 'Th
 e Tempest\,' followed by a Q&A with the performers.\n\nIncluded with Museu
 m Admission or Membership.
X-WR-RELCALID:05f4a99dc9ea11590ffc4a810edd2237
X-WR-TIMEZONE:America/Denver
BEGIN:VTIMEZONE
TZID:America/Denver
BEGIN:STANDARD
TZNAME:MST
DTSTART:20241103T020000
TZOFFSETFROM:-0600
TZOFFSETTO:-0700
RDATE:20251102T020000
RDATE:20261101T020000
END:STANDARD
BEGIN:DAYLIGHT
TZNAME:MDT
DTSTART:20250309T020000
TZOFFSETFROM:-0700
TZOFFSETTO:-0600
RDATE:20260308T020000
RDATE:20270314T020000
END:DAYLIGHT
END:VTIMEZONE
BEGIN:VEVENT
UID:926e7ca4-b703-4bb2-90c9-b6270019fc6a
DTSTAMP:20260420T032928Z
DESCRIPTION:Hear ye! Hear ye! Colorado Shakespeare Festival is coming to WO
 W! Children's Museum! Join us for this family-friendly performance of 'The
  Tempest\,' followed by a Q&A with the performers.\n\nIncluded with Museum
  Admission or Membership.
DTSTART;TZID=America/Denver:20251011T103000
DTEND;TZID=America/Denver:20251011T111500
LOCATION:
SUMMARY:Colorado Shakespeare Festival @ WOW!
END:VEVENT
END:VCALENDAR
