BEGIN:VCALENDAR
VERSION:2.0
PRODID:-//wowchildrensmuseum.org//NONSGML kigkonsult.se iCalcreator 2.30.10
 //
CALSCALE:GREGORIAN
METHOD:PUBLISH
UID:60ee684f-19d5-4779-b23a-899d16a81d59
X-WR-CALDESC:This FREE pilot workshop series hosted by BRITE Collaborative 
 aims to be a shared\, supportive\, participatory experience\, inviting us 
 all to look at parenting through a restorative lens. Reframe discipline\, 
 eliminate power struggles\, and transform your relationship with your chil
 d!\n\nPlaytime and pizza provided for children under 12. For parents\, gua
 rdians and caregivers of children of all ages.\n\nRegistration is free at 
 the link below. This program is hosted by Brite Collaborative.
X-WR-RELCALID:937f688826bfc0a8448f25d5bea75fff
X-WR-TIMEZONE:America/Denver
BEGIN:VTIMEZONE
TZID:America/Denver
BEGIN:STANDARD
TZNAME:MST
DTSTART:20241103T020000
TZOFFSETFROM:-0600
TZOFFSETTO:-0700
RDATE:20251102T020000
RDATE:20261101T020000
END:STANDARD
BEGIN:DAYLIGHT
TZNAME:MDT
DTSTART:20250309T020000
TZOFFSETFROM:-0700
TZOFFSETTO:-0600
RDATE:20260308T020000
RDATE:20270314T020000
END:DAYLIGHT
END:VTIMEZONE
BEGIN:VEVENT
UID:fc76e869-913d-4c67-aa80-7a1ba5ec83d6
DTSTAMP:20260420T051534Z
DESCRIPTION:This FREE pilot workshop series hosted by BRITE Collaborative a
 ims to be a shared\, supportive\, participatory experience\, inviting us a
 ll to look at parenting through a restorative lens. Reframe discipline\, e
 liminate power struggles\, and transform your relationship with your child
 !\n\nPlaytime and pizza provided for children under 12. For parents\, guar
 dians and caregivers of children of all ages.\n\nRegistration is free at t
 he link below. This program is hosted by Brite Collaborative.
DTSTART;TZID=America/Denver:20250924T170000
DTEND;TZID=America/Denver:20250924T190000
LOCATION:110 N. Harrison Ave.\, Lafayette\, CO 80026 US
SUMMARY:Restorative Approaches to Parenting Workshop
END:VEVENT
END:VCALENDAR
