BEGIN:VCALENDAR
VERSION:2.0
PRODID:-//wowchildrensmuseum.org//NONSGML kigkonsult.se iCalcreator 2.30.10
 //
CALSCALE:GREGORIAN
METHOD:PUBLISH
UID:d7793b75-3c90-4d4f-8aef-1e66b7960b12
X-WR-CALDESC:To prepare for WOW! on Tap\, we will be closing early at 3:00p
 m today. Thank you for your understanding!
X-WR-RELCALID:bdfc8f2cba9b3cea0619af1273cb2f14
X-WR-TIMEZONE:America/Denver
BEGIN:VTIMEZONE
TZID:America/Denver
BEGIN:STANDARD
TZNAME:MST
DTSTART:20241103T020000
TZOFFSETFROM:-0600
TZOFFSETTO:-0700
RDATE:20251102T020000
RDATE:20261101T020000
END:STANDARD
BEGIN:DAYLIGHT
TZNAME:MDT
DTSTART:20250309T020000
TZOFFSETFROM:-0700
TZOFFSETTO:-0600
RDATE:20260308T020000
END:DAYLIGHT
END:VTIMEZONE
BEGIN:VEVENT
UID:0b561eb7-c37d-4f93-bc57-2b7c311f7164
DTSTAMP:20260420T050754Z
DESCRIPTION:To prepare for WOW! on Tap\, we will be closing early at 3:00pm
  today. Thank you for your understanding!
DTSTART;TZID=America/Denver:20250906T040000
DTEND;TZID=America/Denver:20250906T040001
LOCATION:
SUMMARY:Closing Early at 3:00pm
END:VEVENT
END:VCALENDAR
