BEGIN:VCALENDAR
VERSION:2.0
PRODID:-//wowchildrensmuseum.org//NONSGML kigkonsult.se iCalcreator 2.30.10
 //
CALSCALE:GREGORIAN
METHOD:PUBLISH
UID:ecb39e66-f5b5-4bf6-83a0-690d72ef1bf3
X-WR-CALDESC:Come to WOW! after school and take part in extra awesome STEAM
  activities\, brought to you by WOW! team member\, Max! \n\nSTEAM to the M
 ax! is a new\, recurring program on Tuesday afternoons and is recommended 
 for grades K-3. This special preview is included with Museum Admission or 
 Membership.
X-WR-RELCALID:0738286a9ba436d329928d52ca899d7a
X-WR-TIMEZONE:America/Denver
BEGIN:VTIMEZONE
TZID:America/Denver
BEGIN:STANDARD
TZNAME:MST
DTSTART:20241103T020000
TZOFFSETFROM:-0600
TZOFFSETTO:-0700
RDATE:20251102T020000
RDATE:20261101T020000
END:STANDARD
BEGIN:DAYLIGHT
TZNAME:MDT
DTSTART:20250309T020000
TZOFFSETFROM:-0700
TZOFFSETTO:-0600
RDATE:20260308T020000
END:DAYLIGHT
END:VTIMEZONE
BEGIN:VEVENT
UID:9c86db45-330e-4d6a-a3cb-bc96ef6bd67f
DTSTAMP:20260422T093427Z
DESCRIPTION:Come to WOW! after school and take part in extra awesome STEAM 
 activities\, brought to you by WOW! team member\, Max! \n\nSTEAM to the Ma
 x! is a new\, recurring program on Tuesday afternoons and is recommended f
 or grades K-3. This special preview is included with Museum Admission or M
 embership.
DTSTART;TZID=America/Denver:20250715T153000
DTEND;TZID=America/Denver:20250715T161500
LOCATION:
SUMMARY:STEAM to the Max!
END:VEVENT
END:VCALENDAR
