BEGIN:VCALENDAR
VERSION:2.0
PRODID:-//wowchildrensmuseum.org//NONSGML kigkonsult.se iCalcreator 2.30.10
 //
CALSCALE:GREGORIAN
METHOD:PUBLISH
UID:a9fee352-ee7a-48d5-ac94-99b0d07fe5e5
X-WR-CALDESC:Come to WOW! after school and take part in extra awesome STEAM
  activities\, brought to you by WOW! team member\, Max! \n\nSTEAM to the M
 ax! is a new\, recurring program on Tuesday afternoons and is recommended 
 for grades K-3. This special preview is included with Museum Admission or 
 Membership.
X-WR-RELCALID:d95d3a213d6d37456faa0711e13191c8
X-WR-TIMEZONE:America/Denver
BEGIN:VTIMEZONE
TZID:America/Denver
BEGIN:STANDARD
TZNAME:MST
DTSTART:20241103T020000
TZOFFSETFROM:-0600
TZOFFSETTO:-0700
RDATE:20251102T020000
RDATE:20261101T020000
END:STANDARD
BEGIN:DAYLIGHT
TZNAME:MDT
DTSTART:20250309T020000
TZOFFSETFROM:-0700
TZOFFSETTO:-0600
RDATE:20260308T020000
END:DAYLIGHT
END:VTIMEZONE
BEGIN:VEVENT
UID:5c4eede3-8b3c-4138-bdef-55cfd4b51f54
DTSTAMP:20260422T093414Z
DESCRIPTION:Come to WOW! after school and take part in extra awesome STEAM 
 activities\, brought to you by WOW! team member\, Max! \n\nSTEAM to the Ma
 x! is a new\, recurring program on Tuesday afternoons and is recommended f
 or grades K-3. This special preview is included with Museum Admission or M
 embership.
DTSTART;TZID=America/Denver:20250708T153000
DTEND;TZID=America/Denver:20250708T161500
LOCATION:
SUMMARY:STEAM to the Max!
END:VEVENT
END:VCALENDAR
