BEGIN:VCALENDAR
VERSION:2.0
PRODID:-//wowchildrensmuseum.org//NONSGML kigkonsult.se iCalcreator 2.30.10
 //
CALSCALE:GREGORIAN
METHOD:PUBLISH
UID:1f09808a-c9ee-478e-a5d3-2947e9097f70
X-WR-CALDESC:We will be closed the 4th of July. Enjoy your holiday!
X-WR-RELCALID:46683ff9c251710805ba34c526733593
X-WR-TIMEZONE:America/Denver
BEGIN:VTIMEZONE
TZID:America/Denver
BEGIN:STANDARD
TZNAME:MST
DTSTART:20241103T020000
TZOFFSETFROM:-0600
TZOFFSETTO:-0700
RDATE:20251102T020000
RDATE:20261101T020000
END:STANDARD
BEGIN:DAYLIGHT
TZNAME:MDT
DTSTART:20250309T020000
TZOFFSETFROM:-0700
TZOFFSETTO:-0600
RDATE:20260308T020000
END:DAYLIGHT
END:VTIMEZONE
BEGIN:VEVENT
UID:15b0e132-16b3-4546-9b19-206d6a3e7dc5
DTSTAMP:20260420T090712Z
DESCRIPTION:We will be closed the 4th of July. Enjoy your holiday!
DTSTART;TZID=America/Denver:20250704T090000
DTEND;TZID=America/Denver:20250704T170000
LOCATION:
SUMMARY:CLOSED TODAY
END:VEVENT
END:VCALENDAR
