BEGIN:VCALENDAR
VERSION:2.0
PRODID:-//wowchildrensmuseum.org//NONSGML kigkonsult.se iCalcreator 2.30.10
 //
CALSCALE:GREGORIAN
METHOD:PUBLISH
UID:6f142513-ecef-416e-bd56-7b9889a464ce
X-WR-CALDESC:Today is Seed Planting Day! Join us in our Discovery Garden to
  help get it planted for the summer! Learn how a gardener plans a garden b
 ed\, the materials needed in the soil for plants to grow\, and how to plan
 t seeds in a garden bed.\n\nIncluded with Museum Admission or Membership.
X-WR-RELCALID:b28efc0f748feb38ca797e0aa64beafa
X-WR-TIMEZONE:America/Denver
BEGIN:VTIMEZONE
TZID:America/Denver
BEGIN:STANDARD
TZNAME:MST
DTSTART:20241103T020000
TZOFFSETFROM:-0600
TZOFFSETTO:-0700
RDATE:20251102T020000
END:STANDARD
BEGIN:DAYLIGHT
TZNAME:MDT
DTSTART:20250309T020000
TZOFFSETFROM:-0700
TZOFFSETTO:-0600
RDATE:20260308T020000
END:DAYLIGHT
END:VTIMEZONE
BEGIN:VEVENT
UID:b987e2a9-3098-4812-abe3-bcb20158e92d
DTSTAMP:20260420T140244Z
DESCRIPTION:Today is Seed Planting Day! Join us in our Discovery Garden to 
 help get it planted for the summer! Learn how a gardener plans a garden be
 d\, the materials needed in the soil for plants to grow\, and how to plant
  seeds in a garden bed.\n\nIncluded with Museum Admission or Membership.
DTSTART;TZID=America/Denver:20250430T110000
DTEND;TZID=America/Denver:20250430T113000
LOCATION:
SUMMARY:Garden Program
END:VEVENT
END:VCALENDAR
