BEGIN:VCALENDAR
VERSION:2.0
PRODID:-//wowchildrensmuseum.org//NONSGML kigkonsult.se iCalcreator 2.30.10
 //
CALSCALE:GREGORIAN
METHOD:PUBLISH
UID:045e4f23-7292-4b2f-9bff-806b6f0b5291
X-WR-CALDESC:Join us for this series of stories and crafts led by WOW! supe
 r volunteer\, Korrie! Each session will be a new topic\, storytime\, and c
 raft.\n\nThis session's theme: Earth Day\n\nIncluded with Museum Admission
  or Membership
X-WR-RELCALID:0c29212d9cd11986745704805f238e74
X-WR-TIMEZONE:America/Denver
BEGIN:VTIMEZONE
TZID:America/Denver
BEGIN:STANDARD
TZNAME:MST
DTSTART:20241103T020000
TZOFFSETFROM:-0600
TZOFFSETTO:-0700
RDATE:20251102T020000
END:STANDARD
BEGIN:DAYLIGHT
TZNAME:MDT
DTSTART:20250309T020000
TZOFFSETFROM:-0700
TZOFFSETTO:-0600
RDATE:20260308T020000
END:DAYLIGHT
END:VTIMEZONE
BEGIN:VEVENT
UID:9124c3ca-4f93-4fc1-907b-858aa075ba1a
DTSTAMP:20260420T140418Z
DESCRIPTION:Join us for this series of stories and crafts led by WOW! super
  volunteer\, Korrie! Each session will be a new topic\, storytime\, and cr
 aft.\n\nThis session's theme: Earth Day\n\nIncluded with Museum Admission 
 or Membership
DTSTART;TZID=America/Denver:20250429T100000
DTEND;TZID=America/Denver:20250429T104500
LOCATION:
SUMMARY:Story Craft Workshop
END:VEVENT
END:VCALENDAR
