BEGIN:VCALENDAR
VERSION:2.0
PRODID:-//wowchildrensmuseum.org//NONSGML kigkonsult.se iCalcreator 2.30.10
 //
CALSCALE:GREGORIAN
METHOD:PUBLISH
UID:b7fb32a9-234e-47df-a5e0-c0d49d4a6588
X-WR-CALDESC:Come to WOW! after school and take part in extra awesome STEAM
  activities\, brought to you by WOW! team member\, Max! \n\nSTEAM to the M
 ax! is a new\, recurring program on Tuesday afternoons and is recommended 
 for grades K-3. This special preview is included with Museum Admission or 
 Membership.
X-WR-RELCALID:a35d3869ba67c3e4c0a002e63740b8ad
X-WR-TIMEZONE:America/Denver
BEGIN:VTIMEZONE
TZID:America/Denver
BEGIN:STANDARD
TZNAME:MST
DTSTART:20241103T020000
TZOFFSETFROM:-0600
TZOFFSETTO:-0700
RDATE:20251102T020000
END:STANDARD
BEGIN:DAYLIGHT
TZNAME:MDT
DTSTART:20250309T020000
TZOFFSETFROM:-0700
TZOFFSETTO:-0600
RDATE:20260308T020000
END:DAYLIGHT
END:VTIMEZONE
BEGIN:VEVENT
UID:879eb2ef-e98a-42e0-8bd5-c67e51accc26
DTSTAMP:20260420T141850Z
DESCRIPTION:Come to WOW! after school and take part in extra awesome STEAM 
 activities\, brought to you by WOW! team member\, Max! \n\nSTEAM to the Ma
 x! is a new\, recurring program on Tuesday afternoons and is recommended f
 or grades K-3. This special preview is included with Museum Admission or M
 embership.
DTSTART;TZID=America/Denver:20250429T153000
DTEND;TZID=America/Denver:20250429T161500
LOCATION:
SUMMARY:STEAM to the Max!
END:VEVENT
END:VCALENDAR
