BEGIN:VCALENDAR
VERSION:2.0
PRODID:-//wowchildrensmuseum.org//NONSGML kigkonsult.se iCalcreator 2.30.10
 //
CALSCALE:GREGORIAN
METHOD:PUBLISH
UID:e6b900db-6f65-4307-8579-af9ad4fad935
X-WR-CALDESC:Join us for a special storytime with local author and retired 
 art teacher Cindy Applehans as she reads her book 'Serafina's Flight\,' ab
 out a fairy who wants to be an astronaut.\n\nIncluded with Museum Admissio
 n or Membership
X-WR-RELCALID:fe449ded76e68f9aafa9b864affef9cb
X-WR-TIMEZONE:America/Denver
BEGIN:VTIMEZONE
TZID:America/Denver
BEGIN:STANDARD
TZNAME:MST
DTSTART:20241103T020000
TZOFFSETFROM:-0600
TZOFFSETTO:-0700
RDATE:20251102T020000
END:STANDARD
BEGIN:DAYLIGHT
TZNAME:MDT
DTSTART:20250309T020000
TZOFFSETFROM:-0700
TZOFFSETTO:-0600
RDATE:20260308T020000
END:DAYLIGHT
END:VTIMEZONE
BEGIN:VEVENT
UID:7130eb74-9e1b-4099-a8c4-21db4fc30057
DTSTAMP:20260420T140921Z
DESCRIPTION:Join us for a special storytime with local author and retired a
 rt teacher Cindy Applehans as she reads her book 'Serafina's Flight\,' abo
 ut a fairy who wants to be an astronaut.\n\nIncluded with Museum Admission
  or Membership
DTSTART;TZID=America/Denver:20250419T130000
DTEND;TZID=America/Denver:20250419T140000
LOCATION:
SUMMARY:Storytime with Author Cindy Applehans
END:VEVENT
END:VCALENDAR
