BEGIN:VCALENDAR
VERSION:2.0
PRODID:-//wowchildrensmuseum.org//NONSGML kigkonsult.se iCalcreator 2.30.10
 //
CALSCALE:GREGORIAN
METHOD:PUBLISH
UID:7b746cb3-1d8e-4a3e-886e-4e19d4ca9e6d
X-WR-CALDESC:It's Gabby's Dollhouse MEOWseum Discovery Days and we're celeb
 rating with two weeks of cat-tastic activities! Today's special Gabby craf
 t is DJ Catnip Shakers.\n\nIncluded with Museum Admission or Membership.
X-WR-RELCALID:fac61d802b9d529bb750f031d30e1198
X-WR-TIMEZONE:America/Denver
BEGIN:VTIMEZONE
TZID:America/Denver
BEGIN:STANDARD
TZNAME:MST
DTSTART:20241103T020000
TZOFFSETFROM:-0600
TZOFFSETTO:-0700
RDATE:20251102T020000
END:STANDARD
BEGIN:DAYLIGHT
TZNAME:MDT
DTSTART:20250309T020000
TZOFFSETFROM:-0700
TZOFFSETTO:-0600
RDATE:20260308T020000
END:DAYLIGHT
END:VTIMEZONE
BEGIN:VEVENT
UID:094ac818-171e-4cbb-9542-74a598574f58
DTSTAMP:20260420T141721Z
DESCRIPTION:It's Gabby's Dollhouse MEOWseum Discovery Days and we're celebr
 ating with two weeks of cat-tastic activities! Today's special Gabby craft
  is DJ Catnip Shakers.\n\nIncluded with Museum Admission or Membership.
DTSTART;TZID=America/Denver:20250418T150000
DTEND;TZID=America/Denver:20250418T153000
LOCATION:
SUMMARY:Gabby's Dollhouse Craft
END:VEVENT
END:VCALENDAR
