BEGIN:VCALENDAR
VERSION:2.0
PRODID:-//wowchildrensmuseum.org//NONSGML kigkonsult.se iCalcreator 2.30.10
 //
CALSCALE:GREGORIAN
METHOD:PUBLISH
UID:226889fd-25c6-401c-b7da-819008161759
X-WR-CALDESC:It's Gabby's Dollhouse MEOWseum Discovery Days and we're celeb
 rating with two weeks of cat-tastic activities! Today's special Gabby craf
 t is Cat Cards.\n\nIncluded with Museum Admission or Membership.
X-WR-RELCALID:f9d30b16c8484ddc34e6c39ab5383e05
X-WR-TIMEZONE:America/Denver
BEGIN:VTIMEZONE
TZID:America/Denver
BEGIN:STANDARD
TZNAME:MST
DTSTART:20241103T020000
TZOFFSETFROM:-0600
TZOFFSETTO:-0700
RDATE:20251102T020000
END:STANDARD
BEGIN:DAYLIGHT
TZNAME:MDT
DTSTART:20250309T020000
TZOFFSETFROM:-0700
TZOFFSETTO:-0600
RDATE:20260308T020000
END:DAYLIGHT
END:VTIMEZONE
BEGIN:VEVENT
UID:6e6a5b9e-c18a-4199-bd8a-aef65e1ea2e5
DTSTAMP:20260420T141226Z
DESCRIPTION:It's Gabby's Dollhouse MEOWseum Discovery Days and we're celebr
 ating with two weeks of cat-tastic activities! Today's special Gabby craft
  is Cat Cards.\n\nIncluded with Museum Admission or Membership.
DTSTART;TZID=America/Denver:20250418T100000
DTEND;TZID=America/Denver:20250418T103000
LOCATION:
SUMMARY:Gabby's Dollhouse Craft
END:VEVENT
END:VCALENDAR
