BEGIN:VCALENDAR
VERSION:2.0
PRODID:-//wowchildrensmuseum.org//NONSGML kigkonsult.se iCalcreator 2.30.10
 //
CALSCALE:GREGORIAN
METHOD:PUBLISH
UID:989a323b-2240-4703-895a-c2473461707f
X-WR-CALDESC:It's Gabby's Dollhouse MEOWseum Discovery Days and we're celeb
 rating with two weeks of cat-tastic activities! Today's special Gabby craf
 t is DIY Cat Toys.\n\nIncluded with Museum Admission or Membership.
X-WR-RELCALID:f32ac6c89d701bfedf1fa77ed7970f56
X-WR-TIMEZONE:America/Denver
BEGIN:VTIMEZONE
TZID:America/Denver
BEGIN:STANDARD
TZNAME:MST
DTSTART:20241103T020000
TZOFFSETFROM:-0600
TZOFFSETTO:-0700
RDATE:20251102T020000
END:STANDARD
BEGIN:DAYLIGHT
TZNAME:MDT
DTSTART:20250309T020000
TZOFFSETFROM:-0700
TZOFFSETTO:-0600
RDATE:20260308T020000
END:DAYLIGHT
END:VTIMEZONE
BEGIN:VEVENT
UID:3c33f904-bd76-4633-8bdb-2b886dfddec9
DTSTAMP:20260420T141348Z
DESCRIPTION:It's Gabby's Dollhouse MEOWseum Discovery Days and we're celebr
 ating with two weeks of cat-tastic activities! Today's special Gabby craft
  is DIY Cat Toys.\n\nIncluded with Museum Admission or Membership.
DTSTART;TZID=America/Denver:20250417T150000
DTEND;TZID=America/Denver:20250417T153000
LOCATION:
SUMMARY:Gabby's Dollhouse Craft
END:VEVENT
END:VCALENDAR
