BEGIN:VCALENDAR
VERSION:2.0
PRODID:-//wowchildrensmuseum.org//NONSGML kigkonsult.se iCalcreator 2.30.10
 //
CALSCALE:GREGORIAN
METHOD:PUBLISH
UID:53259fc5-66ff-48ba-970b-ef4ed44fbced
X-WR-CALDESC:It's Gabby's Dollhouse MEOWseum Discovery Days and we're celeb
 rating with two weeks of cat-tastic activities! Today's special Gabby craf
 t is Kitty Ears.\n\nIncluded with Museum Admission or Membership.
X-WR-RELCALID:d3584660ead5da04dc36944b387fef8d
X-WR-TIMEZONE:America/Denver
BEGIN:VTIMEZONE
TZID:America/Denver
BEGIN:STANDARD
TZNAME:MST
DTSTART:20241103T020000
TZOFFSETFROM:-0600
TZOFFSETTO:-0700
RDATE:20251102T020000
END:STANDARD
BEGIN:DAYLIGHT
TZNAME:MDT
DTSTART:20250309T020000
TZOFFSETFROM:-0700
TZOFFSETTO:-0600
RDATE:20260308T020000
END:DAYLIGHT
END:VTIMEZONE
BEGIN:VEVENT
UID:726d8bee-5cda-4d20-b538-6c96a8e6743a
DTSTAMP:20260420T141220Z
DESCRIPTION:It's Gabby's Dollhouse MEOWseum Discovery Days and we're celebr
 ating with two weeks of cat-tastic activities! Today's special Gabby craft
  is Kitty Ears.\n\nIncluded with Museum Admission or Membership.
DTSTART;TZID=America/Denver:20250416T110000
DTEND;TZID=America/Denver:20250416T113000
LOCATION:
SUMMARY:Gabby's Dollhouse Craft
END:VEVENT
END:VCALENDAR
