BEGIN:VCALENDAR
VERSION:2.0
PRODID:-//wowchildrensmuseum.org//NONSGML kigkonsult.se iCalcreator 2.30.10
 //
CALSCALE:GREGORIAN
METHOD:PUBLISH
UID:3c3181de-cd46-4e71-92b0-55744d5cecce
X-WR-CALDESC:It's Gabby's Dollhouse MEOWseum Discovery Days and we're celeb
 rating with two weeks of cat-tastic activities! Today's special Gabby craf
 t is an Egg Carton Planter.\n\nIncluded with Museum Admission or Membershi
 p.
X-WR-RELCALID:ccb378d796e152032ce01144bb339308
X-WR-TIMEZONE:America/Denver
BEGIN:VTIMEZONE
TZID:America/Denver
BEGIN:STANDARD
TZNAME:MST
DTSTART:20241103T020000
TZOFFSETFROM:-0600
TZOFFSETTO:-0700
RDATE:20251102T020000
END:STANDARD
BEGIN:DAYLIGHT
TZNAME:MDT
DTSTART:20250309T020000
TZOFFSETFROM:-0700
TZOFFSETTO:-0600
RDATE:20260308T020000
END:DAYLIGHT
END:VTIMEZONE
BEGIN:VEVENT
UID:c8cfd1b6-0ae9-4ee7-a792-3a8c1a885816
DTSTAMP:20260420T141348Z
DESCRIPTION:It's Gabby's Dollhouse MEOWseum Discovery Days and we're celebr
 ating with two weeks of cat-tastic activities! Today's special Gabby craft
  is an Egg Carton Planter.\n\nIncluded with Museum Admission or Membership
 .
DTSTART;TZID=America/Denver:20250415T120000
DTEND;TZID=America/Denver:20250415T123000
LOCATION:
SUMMARY:Gabby's Dollhouse Craft
END:VEVENT
END:VCALENDAR
