BEGIN:VCALENDAR
VERSION:2.0
PRODID:-//wowchildrensmuseum.org//NONSGML kigkonsult.se iCalcreator 2.30.10
 //
CALSCALE:GREGORIAN
METHOD:PUBLISH
UID:5d254799-f108-4efd-8c97-901a0145601b
X-WR-CALDESC:It's Gabby's Dollhouse MEOWseum Discovery Days and we're celeb
 rating with two weeks of cat-tastic activities! Today is a special Gabby s
 torytime at 2:00pm.\n\nIncluded with Museum Admission or Membership.
X-WR-RELCALID:ce3e14e0370013c9ee298b23b404d0ca
X-WR-TIMEZONE:America/Denver
BEGIN:VTIMEZONE
TZID:America/Denver
BEGIN:STANDARD
TZNAME:MST
DTSTART:20241103T020000
TZOFFSETFROM:-0600
TZOFFSETTO:-0700
RDATE:20251102T020000
END:STANDARD
BEGIN:DAYLIGHT
TZNAME:MDT
DTSTART:20250309T020000
TZOFFSETFROM:-0700
TZOFFSETTO:-0600
RDATE:20260308T020000
END:DAYLIGHT
END:VTIMEZONE
BEGIN:VEVENT
UID:a7488b83-ba22-40e7-b6e4-cedce68110b6
DTSTAMP:20260420T142114Z
DESCRIPTION:It's Gabby's Dollhouse MEOWseum Discovery Days and we're celebr
 ating with two weeks of cat-tastic activities! Today is a special Gabby st
 orytime at 2:00pm.\n\nIncluded with Museum Admission or Membership.
DTSTART;TZID=America/Denver:20250411T140000
DTEND;TZID=America/Denver:20250411T143000
LOCATION:
SUMMARY:Gabby's Dollhouse Storytime
END:VEVENT
END:VCALENDAR
