BEGIN:VCALENDAR
VERSION:2.0
PRODID:-//wowchildrensmuseum.org//NONSGML kigkonsult.se iCalcreator 2.30.10
 //
CALSCALE:GREGORIAN
METHOD:PUBLISH
UID:c2df7326-b3f3-494b-99cf-d0b32d6d6ee1
X-WR-CALDESC:Build with boxes! Create with cardboard! Drop in this Spring B
 reak and see what you can construct! The possibilities are endless.\n\nInc
 luded with Museum Admission or Membership.
X-WR-RELCALID:79b6db78c3c09d6c2b1dccb75de5d5bb
X-WR-TIMEZONE:America/Denver
BEGIN:VTIMEZONE
TZID:America/Denver
BEGIN:STANDARD
TZNAME:MST
DTSTART:20241103T020000
TZOFFSETFROM:-0600
TZOFFSETTO:-0700
RDATE:20251102T020000
END:STANDARD
BEGIN:DAYLIGHT
TZNAME:MDT
DTSTART:20250309T020000
TZOFFSETFROM:-0700
TZOFFSETTO:-0600
RDATE:20260308T020000
END:DAYLIGHT
END:VTIMEZONE
BEGIN:VEVENT
UID:d0d2553c-069b-45e5-8f51-2eb66d02fd3d
DTSTAMP:20260420T155008Z
DESCRIPTION:Build with boxes! Create with cardboard! Drop in this Spring Br
 eak and see what you can construct! The possibilities are endless.\n\nIncl
 uded with Museum Admission or Membership.
DTSTART;TZID=America/Denver:20250326T110000
DTEND;TZID=America/Denver:20250326T130000
LOCATION:
SUMMARY:Box Day!
END:VEVENT
END:VCALENDAR
