BEGIN:VCALENDAR
VERSION:2.0
PRODID:-//wowchildrensmuseum.org//NONSGML kigkonsult.se iCalcreator 2.30.10
 //
CALSCALE:GREGORIAN
METHOD:PUBLISH
UID:497b80de-7699-4876-aa2c-a6c8fe796302
X-WR-CALDESC:Get into the spirit of St. Patrick's Day with a special perfor
 mance by the McTeggart Irish Dancers!\n\nIncluded with Museum Admission or
  Membership.
X-WR-RELCALID:2bd985770579d110ada7e9d75fd69b60
X-WR-TIMEZONE:America/Denver
BEGIN:VTIMEZONE
TZID:America/Denver
BEGIN:STANDARD
TZNAME:MST
DTSTART:20241103T020000
TZOFFSETFROM:-0600
TZOFFSETTO:-0700
RDATE:20251102T020000
END:STANDARD
BEGIN:DAYLIGHT
TZNAME:MDT
DTSTART:20250309T020000
TZOFFSETFROM:-0700
TZOFFSETTO:-0600
RDATE:20260308T020000
END:DAYLIGHT
END:VTIMEZONE
BEGIN:VEVENT
UID:abd639ba-948c-4d56-b97a-76f066e2678b
DTSTAMP:20260420T155617Z
DESCRIPTION:Get into the spirit of St. Patrick's Day with a special perform
 ance by the McTeggart Irish Dancers!\n\nIncluded with Museum Admission or 
 Membership.
DTSTART;TZID=America/Denver:20250315T100000
DTEND;TZID=America/Denver:20250315T103000
LOCATION:
SUMMARY:McTeggart Irish Dancers
END:VEVENT
END:VCALENDAR
