BEGIN:VCALENDAR
VERSION:2.0
PRODID:-//wowchildrensmuseum.org//NONSGML kigkonsult.se iCalcreator 2.30.10
 //
CALSCALE:GREGORIAN
METHOD:PUBLISH
UID:91146d94-7fb4-4671-b009-4912eabb8fe1
X-WR-CALDESC:In preparation for tonight's event\, we will be closing at 4:3
 0pm on Friday\, March 7th. Thank you for understanding!
X-WR-RELCALID:0b608a0b1adb3c9723db41d85036f669
X-WR-TIMEZONE:America/Denver
BEGIN:VTIMEZONE
TZID:America/Denver
BEGIN:STANDARD
TZNAME:MST
DTSTART:20241103T020000
TZOFFSETFROM:-0600
TZOFFSETTO:-0700
RDATE:20251102T020000
END:STANDARD
BEGIN:DAYLIGHT
TZNAME:MDT
DTSTART:20240310T020000
TZOFFSETFROM:-0700
TZOFFSETTO:-0600
RDATE:20250309T020000
RDATE:20260308T020000
END:DAYLIGHT
END:VTIMEZONE
BEGIN:VEVENT
UID:9da1141b-eb9b-4afb-ad6a-50f1de9bfeb0
DTSTAMP:20260420T155135Z
DESCRIPTION:In preparation for tonight's event\, we will be closing at 4:30
 pm on Friday\, March 7th. Thank you for understanding!
DTSTART;TZID=America/Denver:20250307T040000
DTEND;TZID=America/Denver:20250307T040001
LOCATION:
SUMMARY:Closing Early at 4:30
END:VEVENT
END:VCALENDAR
