BEGIN:VCALENDAR
VERSION:2.0
PRODID:-//wowchildrensmuseum.org//NONSGML kigkonsult.se iCalcreator 2.30.10
 //
CALSCALE:GREGORIAN
METHOD:PUBLISH
UID:44834fbc-420b-4833-80c3-e9b670f542e9
X-WR-CALDESC:Ring in the Year of the Snake with a very special Lion Dance p
 erformance by the Shaolin Hung Mei Kung Fu Association.\n\nIncluded with M
 useum Admission or Membership.
X-WR-RELCALID:e508b1fd2ca26330598fc6baa7d15a7a
X-WR-TIMEZONE:America/Denver
BEGIN:VTIMEZONE
TZID:America/Denver
BEGIN:STANDARD
TZNAME:MST
DTSTART:20241103T020000
TZOFFSETFROM:-0600
TZOFFSETTO:-0700
RDATE:20251102T020000
END:STANDARD
BEGIN:DAYLIGHT
TZNAME:MDT
DTSTART:20240310T020000
TZOFFSETFROM:-0700
TZOFFSETTO:-0600
RDATE:20250309T020000
RDATE:20260308T020000
END:DAYLIGHT
END:VTIMEZONE
BEGIN:VEVENT
UID:3f686c12-856f-4827-a0cb-a91d3bf27d50
DTSTAMP:20260420T141201Z
DESCRIPTION:Ring in the Year of the Snake with a very special Lion Dance pe
 rformance by the Shaolin Hung Mei Kung Fu Association.\n\nIncluded with Mu
 seum Admission or Membership.
DTSTART;TZID=America/Denver:20250217T110000
DTEND;TZID=America/Denver:20250217T113000
LOCATION:
SUMMARY:Lunar New Year Lion Dance
END:VEVENT
END:VCALENDAR
