BEGIN:VCALENDAR
VERSION:2.0
PRODID:-//wowchildrensmuseum.org//NONSGML kigkonsult.se iCalcreator 2.30.10
 //
CALSCALE:GREGORIAN
METHOD:PUBLISH
UID:0a40e528-0d93-453a-8554-a18c8a7836e6
X-WR-CALDESC:Ring in the Year of the Snake with a very special Lion Dance p
 erformance by the Shaolin Hung Mei Kung Fu Association.\n\nIncluded with M
 useum Admission or Membership.
X-WR-RELCALID:95627752d9dee64320ec7fcceb71979b
X-WR-TIMEZONE:America/Denver
BEGIN:VTIMEZONE
TZID:America/Denver
BEGIN:STANDARD
TZNAME:MST
DTSTART:20241103T020000
TZOFFSETFROM:-0600
TZOFFSETTO:-0700
RDATE:20251102T020000
END:STANDARD
BEGIN:DAYLIGHT
TZNAME:MDT
DTSTART:20240310T020000
TZOFFSETFROM:-0700
TZOFFSETTO:-0600
RDATE:20250309T020000
RDATE:20260308T020000
END:DAYLIGHT
END:VTIMEZONE
BEGIN:VEVENT
UID:499d605d-a777-4d17-a8bf-cb260a5f8598
DTSTAMP:20260420T090223Z
DESCRIPTION:Ring in the Year of the Snake with a very special Lion Dance pe
 rformance by the Shaolin Hung Mei Kung Fu Association.\n\nIncluded with Mu
 seum Admission or Membership.
DTSTART;TZID=America/Denver:20250217T100000
DTEND;TZID=America/Denver:20250217T103000
LOCATION:
SUMMARY:Lunar New Year Lion Dance
END:VEVENT
END:VCALENDAR
